Workbook

Sheet Hoja1
B2: Tribunal Supremo - Penal
B5: ACTIVIDAD DESARROLLADA POR LA SECCIÓN PENAL DE LA FISCALÍA DEL TRIBUNAL SUPREMO. AÑO 2025
B8: Relación general de la actividad desarrollada por la sección | I8: Recursos de casación preparados por el Ministerio Fiscal
B9: Conflictos jurisdiccionales | E9: Art.38 LOPJ | F9: 2 | I9: Interpuestos | J9: Desistidos | K9: Quejas
E10: Art.39 LOPJ | F10: 1 | I10: =F14 -> 49 | J10: =F15 -> 24 | K10: =F17 -> 1
E11: Art.42 LOPJ | F11: 0
E12: Art.61 LOPJ | F12: 7
B13: Recursos especiales | C13: Casación | D13: Del Fiscal | E13: Preparados total | F13: =F14+F18+F19 -> 157
E14: Interpuestos | F14: 49
E15: Desistidos | F15: 24
E16: Quejas | F16: 2
E17: Asiento Nulo | F17: 1
D18: De parte | E18: Apoyados por el Fiscal | F18: 73
E19: Apoyados parcialmente | F19: 35
E20: Inadmisión | F20: 6578
E21: Impugnación | F21: 224
C22: Unificación de doctrina | E22: Vigilancia penitenciaria | F22: 22
E23: Menores | F23: 9
C24: Revisión | E24: Interpuestos por el fiscal | F24: 12
E25: Solicitudes de autorización e interpuestos por las partes | F25: 167
B26: Recursos de queja | C26: Estimando | F26: 46
C27: Desestimando | F27: 1017
B28: Cuestiones de competencia | F28: 966
B29: Causas especiales | D29: Denuncia | F29: 23
D30: Exposición razonada | F30: 5
D31: Querellas | F31: 100
D32: Escritos de acusación | F32: 1
B33: Indultos | D33: Informados favorablemente | F33: 1
D34: Informados desfavorablemente | F34: 42
B35: Señalamientos con vista | F35: 14
B36: Señalamientos sin vista | F36: 1115
B37: Señalamientos juicio oral | F37: 1
B38: Error judicial | F38: 10
B39: Insostenibilidad de la pretensión (AJ Gratuita) | F39: 16
B40: Dictámenes en ejecución | F40: 0
B41: Nulidades | F41: 0
B42: Resoluciones | D42: Autos | F42: 1009
D43: Sentencias | F43: 1075
D44: Providencias inadmisión | F44: 5817

Sheet Aux
B3: Recursos de casación | C3: =SUM(Hoja1!F13:F21) -> 7143
B4: Recursos para la unificación de doctrina | C4: =SUM(Hoja1!F22:F23) -> 31
B5: Recursos de revisión | C5: =SUM(Hoja1!F24:F25) -> 179
B6: Recursos de queja | C6: =SUM(Hoja1!F26:F27) -> 1063
B7: Cuestiones de competencia | C7: =Hoja1!F28 -> 966
B8: Causas especiales | C8: =SUM(Hoja1!F29:F32) -> 129
B9: Indultos | C9: =SUM(Hoja1!F33:F34) -> 43
B10: Señalamiento con Vistas | C10: =Hoja1!F35 -> 14
B11: Señalamiento sin Vistas | C11: =Hoja1!F36 -> 1115
B12: Señalamientos juicio oral | C12: =Hoja1!F37 -> 1
B13: Conflictos jurisdiccionales | C13: =SUM(Hoja1!F9:F12) -> 10
B14: Error judicial | C14: =Hoja1!F38 -> 10
B15: Insostenibilidad de la pretensión (AJ Gratuita) | C15: =Hoja1!F39 -> 16
B16: Dictámenes en ejecución | C16: =Hoja1!F40 -> 0
B17: Nulidades | C17: =Hoja1!F41 -> 0
B18: Resoluciones | C18: =Hoja1!F42+Hoja1!F43 -> 2084
B19: Providencias inadmisión | C19: =Hoja1!F44 -> 5817
